BEGIN:VCALENDAR
VERSION:2.0
PRODID:-//Fischereiverein Delmenhorst e. V. von 1896 - ECPv6.15.20//NONSGML v1.0//EN
CALSCALE:GREGORIAN
METHOD:PUBLISH
X-ORIGINAL-URL:https://fischereiverein-delmenhorst.de
X-WR-CALDESC:Veranstaltungen für Fischereiverein Delmenhorst e. V. von 1896
REFRESH-INTERVAL;VALUE=DURATION:PT1H
X-Robots-Tag:noindex
X-PUBLISHED-TTL:PT1H
BEGIN:VTIMEZONE
TZID:Europe/Berlin
BEGIN:DAYLIGHT
TZOFFSETFROM:+0100
TZOFFSETTO:+0200
TZNAME:CEST
DTSTART:20240331T010000
END:DAYLIGHT
BEGIN:STANDARD
TZOFFSETFROM:+0200
TZOFFSETTO:+0100
TZNAME:CET
DTSTART:20241027T010000
END:STANDARD
BEGIN:DAYLIGHT
TZOFFSETFROM:+0100
TZOFFSETTO:+0200
TZNAME:CEST
DTSTART:20250330T010000
END:DAYLIGHT
BEGIN:STANDARD
TZOFFSETFROM:+0200
TZOFFSETTO:+0100
TZNAME:CET
DTSTART:20251026T010000
END:STANDARD
BEGIN:DAYLIGHT
TZOFFSETFROM:+0100
TZOFFSETTO:+0200
TZNAME:CEST
DTSTART:20260329T010000
END:DAYLIGHT
BEGIN:STANDARD
TZOFFSETFROM:+0200
TZOFFSETTO:+0100
TZNAME:CET
DTSTART:20261025T010000
END:STANDARD
END:VTIMEZONE
BEGIN:VEVENT
DTSTART;TZID=Europe/Berlin:20251004T180000
DTEND;TZID=Europe/Berlin:20251005T090000
DTSTAMP:20260423T152612
CREATED:20250714T114038Z
LAST-MODIFIED:20250929T061045Z
UID:1012-1759600800-1759654800@fischereiverein-delmenhorst.de
SUMMARY:Jugend-Gemeinschaftsfischen Nachtangeln am Ochtum Altarm
DESCRIPTION:
URL:https://fischereiverein-delmenhorst.de/event/jugend-gemeinschaftsfischennachtangeln-am-ochtum-altarm/
LOCATION:Bootshalle\, Hafenstraße 12\, Lemwerder\, Niedersachsen\, 27809\, Germany
CATEGORIES:Angeltermine,Jugendtermine
ORGANIZER;CN="Fischereiverein Delmenhorst e. V. von 1896":MAILTO:info@fischereiverein-delmenhorst.de
END:VEVENT
BEGIN:VEVENT
DTSTART;VALUE=DATE:20251006
DTEND;VALUE=DATE:20251008
DTSTAMP:20260423T152612
CREATED:20250714T113828Z
LAST-MODIFIED:20250714T113909Z
UID:1009-1759708800-1759881599@fischereiverein-delmenhorst.de
SUMMARY:Abbau des Schaufenster-Projekts der Jugendgruppe
DESCRIPTION:
URL:https://fischereiverein-delmenhorst.de/event/abbau-des-schaufensters/
LOCATION:Tourist-Info\, Lange Str. 10\, Delmenhorst\, Niedersachsen\, 27749\, Germany
CATEGORIES:Jugendtermine
ORGANIZER;CN="Fischereiverein Delmenhorst e. V. von 1896":MAILTO:info@fischereiverein-delmenhorst.de
END:VEVENT
BEGIN:VEVENT
DTSTART;TZID=Europe/Berlin:20251011T080000
DTEND;TZID=Europe/Berlin:20251011T130000
DTSTAMP:20260423T152612
CREATED:20250714T120707Z
LAST-MODIFIED:20250730T124839Z
UID:1033-1760169600-1760187600@fischereiverein-delmenhorst.de
SUMMARY:Arbeitsdienst am Ochtum Altarm
DESCRIPTION:Die Anmeldung zum Arbeitsdienst muss spätestens 7 Tage vor dem jeweiligen Termin erfolgen. \nWer einen der vorgegebenen Termine nicht wahrnehmen kann\, sollte rechtzeitig einen Ersatztermin mit dem Vorstand vereinbaren. \nDer Arbeitseinsatz mit Treffen am Einsatzort ist immer an Samstagen von 8 Uhr bis 13 Uhr. \nArbeitskleidung\, Arbeitshandschuhe\, Gummistiefen\, Arbeitsgeräte und Werkzeuge (soweit vorhanden) sind mitzubringen. \nWer unangemeldet zum Arbeitseinsatz erscheint\, kann damit rechnen\, dass er nicht eingesetzt wird. \nGeschäftszeiten: Dienstag und Donnerstag 18 Uhr bis 20 Uhr \nTel. 04221 – 4452089 oder E-Mail: info@fischereiverein-delmenhorst.de \nDie Anmeldung kann auch schriftlich über das Downloadformular Arbeitsdienst erfolgen. \nEuer Vorstand
URL:https://fischereiverein-delmenhorst.de/event/arbeitsdienst-an-ochtum-altarm/
LOCATION:Bootshalle\, Hafenstraße 12\, Lemwerder\, Niedersachsen\, 27809\, Germany
CATEGORIES:Arbeitsdienst
ORGANIZER;CN="Fischereiverein Delmenhorst e. V. von 1896":MAILTO:info@fischereiverein-delmenhorst.de
END:VEVENT
BEGIN:VEVENT
DTSTART;TZID=Europe/Berlin:20251018T080000
DTEND;TZID=Europe/Berlin:20251018T130000
DTSTAMP:20260423T152612
CREATED:20250714T120802Z
LAST-MODIFIED:20250730T124845Z
UID:1035-1760774400-1760792400@fischereiverein-delmenhorst.de
SUMMARY:Arbeitsdienst am Dingsteder See
DESCRIPTION:Die Anmeldung zum Arbeitsdienst muss spätestens 7 Tage vor dem jeweiligen Termin erfolgen. \nWer einen der vorgegebenen Termine nicht wahrnehmen kann\, sollte rechtzeitig einen Ersatztermin mit dem Vorstand vereinbaren. \nDer Arbeitseinsatz mit Treffen am Einsatzort ist immer an Samstagen von 8 Uhr bis 13 Uhr. \nArbeitskleidung\, Arbeitshandschuhe\, Gummistiefen\, Arbeitsgeräte und Werkzeuge (soweit vorhanden) sind mitzubringen. \nWer unangemeldet zum Arbeitseinsatz erscheint\, kann damit rechnen\, dass er nicht eingesetzt wird. \nGeschäftszeiten: Dienstag und Donnerstag 18 Uhr bis 20 Uhr \nTel. 04221 – 4452089 oder E-Mail: info@fischereiverein-delmenhorst.de \nDie Anmeldung kann auch schriftlich über das Downloadformular Arbeitsdienst erfolgen. \nEuer Vorstand
URL:https://fischereiverein-delmenhorst.de/event/arbeitsdienst-am-dingsteder-see/
LOCATION:Dingsteder See\, Fischereiverein Delmenhorst\, Hatten\, Niedersachsen\, 26209
CATEGORIES:Arbeitsdienst
ORGANIZER;CN="Fischereiverein Delmenhorst e. V. von 1896":MAILTO:info@fischereiverein-delmenhorst.de
END:VEVENT
BEGIN:VEVENT
DTSTART;TZID=Europe/Berlin:20251025T080000
DTEND;TZID=Europe/Berlin:20251025T130000
DTSTAMP:20260423T152612
CREATED:20250714T120859Z
LAST-MODIFIED:20250730T124850Z
UID:1037-1761379200-1761397200@fischereiverein-delmenhorst.de
SUMMARY:Arbeitsdienst am Hemmelsberger See
DESCRIPTION:Die Anmeldung zum Arbeitsdienst muss spätestens 7 Tage vor dem jeweiligen Termin erfolgen. \nWer einen der vorgegebenen Termine nicht wahrnehmen kann\, sollte rechtzeitig einen Ersatztermin mit dem Vorstand vereinbaren. \nDer Arbeitseinsatz mit Treffen am Einsatzort ist immer an Samstagen von 8 Uhr bis 13 Uhr. \nArbeitskleidung\, Arbeitshandschuhe\, Gummistiefen\, Arbeitsgeräte und Werkzeuge (soweit vorhanden) sind mitzubringen. \nWer unangemeldet zum Arbeitseinsatz erscheint\, kann damit rechnen\, dass er nicht eingesetzt wird. \nGeschäftszeiten: Dienstag und Donnerstag 18 Uhr bis 20 Uhr \nTel. 04221 – 4452089 oder E-Mail: info@fischereiverein-delmenhorst.de \nDie Anmeldung kann auch schriftlich über das Downloadformular Arbeitsdienst erfolgen. \nEuer Vorstand
URL:https://fischereiverein-delmenhorst.de/event/arbeitsdienst-am-hemmelsberger-see/
LOCATION:Hemmelsberger See\, Hemmelsbergsee FV Delmenhorst e.V.\, Hude\, Niedersachsen\, 27798\, Germany
CATEGORIES:Arbeitsdienst
ORGANIZER;CN="Fischereiverein Delmenhorst e. V. von 1896":MAILTO:info@fischereiverein-delmenhorst.de
END:VEVENT
BEGIN:VEVENT
DTSTART;TZID=Europe/Berlin:20251026T060000
DTEND;TZID=Europe/Berlin:20251026T120000
DTSTAMP:20260423T152612
CREATED:20250714T105850Z
LAST-MODIFIED:20251002T091344Z
UID:967-1761458400-1761480000@fischereiverein-delmenhorst.de
SUMMARY:Abfischen für Vereinsmitglieder und Gäste
DESCRIPTION:Für Erwachsene und Jugendliche \nTERMINÄNDERUNG!!! Das Abfischen wurde vom 19.10.2025 auf den 26.10.2025 verschoben!!! \n___ \nEinladung Abfischen 2025
URL:https://fischereiverein-delmenhorst.de/event/abfischen-fuer-vereinsmitglieder-und-gaeste/
LOCATION:Bootshalle\, Hafenstraße 12\, Lemwerder\, Niedersachsen\, 27809\, Germany
CATEGORIES:Allgemeine Termine,Angeltermine
ORGANIZER;CN="Fischereiverein Delmenhorst e. V. von 1896":MAILTO:info@fischereiverein-delmenhorst.de
END:VEVENT
BEGIN:VEVENT
DTSTART;TZID=Europe/Berlin:20251031T190000
DTEND;TZID=Europe/Berlin:20251031T220000
DTSTAMP:20260423T152612
CREATED:20251015T124051Z
LAST-MODIFIED:20251015T124346Z
UID:1740-1761937200-1761948000@fischereiverein-delmenhorst.de
SUMMARY:Skat-Turnier
DESCRIPTION:
URL:https://fischereiverein-delmenhorst.de/event/skat-turnier/
LOCATION:Geschäftsstelle Fischereiverein Delmenhorst e.V. von 1896\, Annenheider Straße 156\, Delmenhorst\, Niedersachsen\, 27755\, Germany
CATEGORIES:Allgemeine Termine
ORGANIZER;CN="Fischereiverein Delmenhorst e. V. von 1896":MAILTO:info@fischereiverein-delmenhorst.de
END:VEVENT
END:VCALENDAR