BEGIN:VCALENDAR
VERSION:2.0
PRODID:-//Fischereiverein Delmenhorst e. V. von 1896 - ECPv6.15.20//NONSGML v1.0//EN
CALSCALE:GREGORIAN
METHOD:PUBLISH
X-ORIGINAL-URL:https://fischereiverein-delmenhorst.de
X-WR-CALDESC:Veranstaltungen für Fischereiverein Delmenhorst e. V. von 1896
REFRESH-INTERVAL;VALUE=DURATION:PT1H
X-Robots-Tag:noindex
X-PUBLISHED-TTL:PT1H
BEGIN:VTIMEZONE
TZID:Europe/Berlin
BEGIN:DAYLIGHT
TZOFFSETFROM:+0100
TZOFFSETTO:+0200
TZNAME:CEST
DTSTART:20240331T010000
END:DAYLIGHT
BEGIN:STANDARD
TZOFFSETFROM:+0200
TZOFFSETTO:+0100
TZNAME:CET
DTSTART:20241027T010000
END:STANDARD
BEGIN:DAYLIGHT
TZOFFSETFROM:+0100
TZOFFSETTO:+0200
TZNAME:CEST
DTSTART:20250330T010000
END:DAYLIGHT
BEGIN:STANDARD
TZOFFSETFROM:+0200
TZOFFSETTO:+0100
TZNAME:CET
DTSTART:20251026T010000
END:STANDARD
BEGIN:DAYLIGHT
TZOFFSETFROM:+0100
TZOFFSETTO:+0200
TZNAME:CEST
DTSTART:20260329T010000
END:DAYLIGHT
BEGIN:STANDARD
TZOFFSETFROM:+0200
TZOFFSETTO:+0100
TZNAME:CET
DTSTART:20261025T010000
END:STANDARD
END:VTIMEZONE
BEGIN:VEVENT
DTSTART;VALUE=DATE:20250905
DTEND;VALUE=DATE:20250906
DTSTAMP:20260423T170445
CREATED:20250714T113426Z
LAST-MODIFIED:20250714T113426Z
UID:1001-1757030400-1757116799@fischereiverein-delmenhorst.de
SUMMARY:Aufbau eines Schaufenster-Projekts der Jugendgruppe
DESCRIPTION:Werbeaktion für den Verein
URL:https://fischereiverein-delmenhorst.de/event/aufbau-eines-schaufenster-projekts-der-jugendgruppe/
LOCATION:Tourist-Info\, Lange Str. 10\, Delmenhorst\, Niedersachsen\, 27749\, Germany
CATEGORIES:Jugendtermine
ORGANIZER;CN="Fischereiverein Delmenhorst e. V. von 1896":MAILTO:info@fischereiverein-delmenhorst.de
END:VEVENT
BEGIN:VEVENT
DTSTART;VALUE=DATE:20250906
DTEND;VALUE=DATE:20250907
DTSTAMP:20260423T170445
CREATED:20250714T113553Z
LAST-MODIFIED:20250725T123719Z
UID:1004-1757116800-1757203199@fischereiverein-delmenhorst.de
SUMMARY:Jugend-Gemeinschaftsangeln
DESCRIPTION:Mit anderen Vereinen in Wildeshausen (Max 5 Teilnehmer)
URL:https://fischereiverein-delmenhorst.de/event/jugend-gemeinschaftsangeln/
LOCATION:Niedersachsen
CATEGORIES:Angeltermine,Jugendtermine
ORGANIZER;CN="Fischereiverein Delmenhorst e. V. von 1896":MAILTO:info@fischereiverein-delmenhorst.de
END:VEVENT
BEGIN:VEVENT
DTSTART;TZID=Europe/Berlin:20250906T080000
DTEND;TZID=Europe/Berlin:20250906T170000
DTSTAMP:20260423T170445
CREATED:20250811T094516Z
LAST-MODIFIED:20250811T094829Z
UID:1327-1757145600-1757178000@fischereiverein-delmenhorst.de
SUMMARY:Vereinsmeile in der Delmenhorster Innenstadt
DESCRIPTION:Der Fischereiverein Delmenhorst wird bei der ersten Vereinsmeile in der Delmenhorster Innenstadt am 6. September 2025 vor Ort mit einem Stand anwesend sein. Finden werdet ihr uns gegenüber der Tourist-Info vorm alten Delmenhorster Kreisblatt Gebäude. Informationen über den Jugendbereich des Vereins können in der Tourist-Info eingesehen werden. \nAuf dem Stand können Mitglieder und Interessierte vorbei kommen und bei kleinen geräucherten Forellenhäppchen mit Mitgliedern des Vorstands plaudern und Informationen zur Arbeit des Vereins einsehen. \nNeben unserem Verein werden auch verschiedene andere Vereine jeglicher Art in der Delmenhorster Innenstadt ihren Verein vorstellen.
URL:https://fischereiverein-delmenhorst.de/event/vereinsmeile-in-der-delmenhorster-innenstadt/
LOCATION:Tourist-Info\, Lange Str. 10\, Delmenhorst\, Niedersachsen\, 27749\, Germany
CATEGORIES:Allgemeine Termine
END:VEVENT
BEGIN:VEVENT
DTSTART;TZID=Europe/Berlin:20250912T190000
DTEND;TZID=Europe/Berlin:20250912T203000
DTSTAMP:20260423T170445
CREATED:20250714T122609Z
LAST-MODIFIED:20250714T122829Z
UID:1042-1757703600-1757709000@fischereiverein-delmenhorst.de
SUMMARY:Fischerprüfungskurs 2025 Tag 1
DESCRIPTION:Personalbögen und Ablauf
URL:https://fischereiverein-delmenhorst.de/event/fischerpruefungskurs-tag-1/
LOCATION:Bootshalle\, Hafenstraße 12\, Lemwerder\, Niedersachsen\, 27809\, Germany
CATEGORIES:Fischerprüfung
ORGANIZER;CN="Fischereiverein Delmenhorst e. V. von 1896":MAILTO:info@fischereiverein-delmenhorst.de
END:VEVENT
BEGIN:VEVENT
DTSTART;TZID=Europe/Berlin:20250913T100000
DTEND;TZID=Europe/Berlin:20250913T160000
DTSTAMP:20260423T170445
CREATED:20250714T122712Z
LAST-MODIFIED:20250714T122817Z
UID:1044-1757757600-1757779200@fischereiverein-delmenhorst.de
SUMMARY:Fischerprüfungskurs 2025 Tag 2
DESCRIPTION:Schulung
URL:https://fischereiverein-delmenhorst.de/event/fischerpruefungskurs-tag-2/
LOCATION:Bootshalle\, Hafenstraße 12\, Lemwerder\, Niedersachsen\, 27809\, Germany
CATEGORIES:Fischerprüfung
ORGANIZER;CN="Fischereiverein Delmenhorst e. V. von 1896":MAILTO:info@fischereiverein-delmenhorst.de
END:VEVENT
BEGIN:VEVENT
DTSTART;TZID=Europe/Berlin:20250914T100000
DTEND;TZID=Europe/Berlin:20250914T160000
DTSTAMP:20260423T170445
CREATED:20250714T122745Z
LAST-MODIFIED:20250714T122804Z
UID:1046-1757844000-1757865600@fischereiverein-delmenhorst.de
SUMMARY:Fischerprüfungskurs 2025 Tag 3
DESCRIPTION:Schulung
URL:https://fischereiverein-delmenhorst.de/event/fischerpruefungskurs-tag-3/
LOCATION:Bootshalle\, Hafenstraße 12\, Lemwerder\, Niedersachsen\, 27809\, Germany
CATEGORIES:Fischerprüfung
ORGANIZER;CN="Fischereiverein Delmenhorst e. V. von 1896":MAILTO:info@fischereiverein-delmenhorst.de
END:VEVENT
BEGIN:VEVENT
DTSTART;TZID=Europe/Berlin:20250920T100000
DTEND;TZID=Europe/Berlin:20250920T160000
DTSTAMP:20260423T170445
CREATED:20250714T122916Z
LAST-MODIFIED:20250714T122916Z
UID:1051-1758362400-1758384000@fischereiverein-delmenhorst.de
SUMMARY:Fischerprüfungskurs 2025 Tag 4
DESCRIPTION:Schulung
URL:https://fischereiverein-delmenhorst.de/event/fischerpruefungskurs-2025-tag-4/
LOCATION:Bootshalle\, Hafenstraße 12\, Lemwerder\, Niedersachsen\, 27809\, Germany
CATEGORIES:Fischerprüfung
ORGANIZER;CN="Fischereiverein Delmenhorst e. V. von 1896":MAILTO:info@fischereiverein-delmenhorst.de
END:VEVENT
BEGIN:VEVENT
DTSTART;TZID=Europe/Berlin:20250920T100000
DTEND;TZID=Europe/Berlin:20250920T180000
DTSTAMP:20260423T170445
CREATED:20250714T113729Z
LAST-MODIFIED:20250725T123726Z
UID:1006-1758362400-1758391200@fischereiverein-delmenhorst.de
SUMMARY:Jugend-Gemeinschaftsfischen am Hasportsee
DESCRIPTION:
URL:https://fischereiverein-delmenhorst.de/event/jugend-gemeinschaftsfischen-am-hasportsee/
LOCATION:Hasportsee\, Hasportsee\, Delmenhorst\, Niedersachsen\, 27755\, Germany
CATEGORIES:Angeltermine,Jugendtermine
ORGANIZER;CN="Fischereiverein Delmenhorst e. V. von 1896":MAILTO:info@fischereiverein-delmenhorst.de
END:VEVENT
BEGIN:VEVENT
DTSTART;TZID=Europe/Berlin:20250921T100000
DTEND;TZID=Europe/Berlin:20250921T160000
DTSTAMP:20260423T170445
CREATED:20250714T122958Z
LAST-MODIFIED:20250714T123011Z
UID:1053-1758448800-1758470400@fischereiverein-delmenhorst.de
SUMMARY:Fischerprüfungskurs 2025 Tag 5
DESCRIPTION:Praxistag
URL:https://fischereiverein-delmenhorst.de/event/fischerpruefungskurs-tag-5/
LOCATION:Bootshalle\, Hafenstraße 12\, Lemwerder\, Niedersachsen\, 27809\, Germany
CATEGORIES:Fischerprüfung
ORGANIZER;CN="Fischereiverein Delmenhorst e. V. von 1896":MAILTO:info@fischereiverein-delmenhorst.de
END:VEVENT
BEGIN:VEVENT
DTSTART;TZID=Europe/Berlin:20250923T190000
DTEND;TZID=Europe/Berlin:20250923T210000
DTSTAMP:20260423T170445
CREATED:20250714T123056Z
LAST-MODIFIED:20250714T123056Z
UID:1056-1758654000-1758661200@fischereiverein-delmenhorst.de
SUMMARY:Fischerprüfungskurs 2025 Tag 6
DESCRIPTION:Prüfung
URL:https://fischereiverein-delmenhorst.de/event/fischerpruefungskurs-2025-tag-6/
LOCATION:Bootshalle\, Hafenstraße 12\, Lemwerder\, Niedersachsen\, 27809\, Germany
CATEGORIES:Fischerprüfung
ORGANIZER;CN="Fischereiverein Delmenhorst e. V. von 1896":MAILTO:info@fischereiverein-delmenhorst.de
END:VEVENT
END:VCALENDAR