BEGIN:VCALENDAR
VERSION:2.0
PRODID:-//Fischereiverein Delmenhorst e. V. von 1896 - ECPv6.15.20//NONSGML v1.0//EN
CALSCALE:GREGORIAN
METHOD:PUBLISH
X-WR-CALNAME:Fischereiverein Delmenhorst e. V. von 1896
X-ORIGINAL-URL:https://fischereiverein-delmenhorst.de
X-WR-CALDESC:Veranstaltungen für Fischereiverein Delmenhorst e. V. von 1896
REFRESH-INTERVAL;VALUE=DURATION:PT1H
X-Robots-Tag:noindex
X-PUBLISHED-TTL:PT1H
BEGIN:VTIMEZONE
TZID:Europe/Berlin
BEGIN:DAYLIGHT
TZOFFSETFROM:+0100
TZOFFSETTO:+0200
TZNAME:CEST
DTSTART:20250330T010000
END:DAYLIGHT
BEGIN:STANDARD
TZOFFSETFROM:+0200
TZOFFSETTO:+0100
TZNAME:CET
DTSTART:20251026T010000
END:STANDARD
BEGIN:DAYLIGHT
TZOFFSETFROM:+0100
TZOFFSETTO:+0200
TZNAME:CEST
DTSTART:20260329T010000
END:DAYLIGHT
BEGIN:STANDARD
TZOFFSETFROM:+0200
TZOFFSETTO:+0100
TZNAME:CET
DTSTART:20261025T010000
END:STANDARD
BEGIN:DAYLIGHT
TZOFFSETFROM:+0100
TZOFFSETTO:+0200
TZNAME:CEST
DTSTART:20270328T010000
END:DAYLIGHT
BEGIN:STANDARD
TZOFFSETFROM:+0200
TZOFFSETTO:+0100
TZNAME:CET
DTSTART:20271031T010000
END:STANDARD
END:VTIMEZONE
BEGIN:VEVENT
DTSTART;TZID=Europe/Berlin:20260228T080000
DTEND;TZID=Europe/Berlin:20260228T130000
DTSTAMP:20260423T072226
CREATED:20251118T225100Z
LAST-MODIFIED:20251119T092513Z
UID:2044-1772265600-1772283600@fischereiverein-delmenhorst.de
SUMMARY:Arbeitsdienst am Delmegrundsee (Milli)
DESCRIPTION:Die Anmeldung zum Arbeitsdienst muss spätestens 7 Tage vor dem jeweiligen Termin erfolgen. \nWer einen der vorgegebenen Termine nicht wahrnehmen kann\, sollte rechtzeitig einen Ersatztermin mit dem Vorstand vereinbaren. \nDer Arbeitseinsatz mit Treffen am Einsatzort ist immer an Samstagen von 8 Uhr bis 13 Uhr. \nArbeitskleidung\, Arbeitshandschuhe und entsprechendes Schuhwerk\, gegebenenfalls Gummistiefel\, sind mitzubringen. \nWer unangemeldet zum Arbeitseinsatz erscheint\, kann damit rechnen\, dass er nicht eingesetzt wird. \nGeschäftszeiten: Dienstag und Donnerstag 18 Uhr bis 20 Uhr \nTel. 04221 – 4452089 oder E-Mail: info@fischereiverein-delmenhorst.de \nDie Anmeldung kann auch schriftlich über das Downloadformular Arbeitsdienst erfolgen. \nEuer Vorstand
URL:https://fischereiverein-delmenhorst.de/event/arbeitsdienst-am-delmegrundsee-milli/
LOCATION:Milli\, Delmegrundsee (Milli)\, Delmenhorst\, Niedersachsen\, 27753\, Germany
CATEGORIES:Arbeitsdienst
ORGANIZER;CN="Fischereiverein Delmenhorst e. V. von 1896":MAILTO:info@fischereiverein-delmenhorst.de
END:VEVENT
BEGIN:VEVENT
DTSTART;TZID=Europe/Berlin:20260228T143000
DTEND;TZID=Europe/Berlin:20260228T210000
DTSTAMP:20260423T072226
CREATED:20260114T075937Z
LAST-MODIFIED:20260114T075938Z
UID:2686-1772289000-1772312400@fischereiverein-delmenhorst.de
SUMMARY:FVD Kohltour 2026
DESCRIPTION:Wann: Samstag\, den 28. Februar 2026\, 14:30 Uhr Treffen\, 15 Uhr Start\, 18 Uhr Essen\nWo: Startpunkt wird noch bekannt gegeben\,  Essen in der vereinseigenen Bootshalle\nWer kann teilnehmen: Mitglieder des Vereins mit oder ohne Partner\nKosten: 35€ pro Person für Essen und Trinken\nBezahlung: Bei Anmeldung auf das Vereinskonto DE17 2806 6214 0050 4572 00\nAnmeldung: über info@fischereiverein-delmenhorst.de oder in der Geschäftsstelle\nAnmeldefrist: 19. Februar 2026\nInfo: Schnapsglas nicht vergessen
URL:https://fischereiverein-delmenhorst.de/event/fvd-kohltour-2026/
LOCATION:Bootshalle\, Hafenstraße 12\, Lemwerder\, Niedersachsen\, 27809\, Germany
ORGANIZER;CN="Fischereiverein Delmenhorst e. V. von 1896":MAILTO:info@fischereiverein-delmenhorst.de
END:VEVENT
END:VCALENDAR