BEGIN:VCALENDAR
VERSION:2.0
PRODID:-//Fischereiverein Delmenhorst e. V. von 1896 - ECPv6.15.20//NONSGML v1.0//EN
CALSCALE:GREGORIAN
METHOD:PUBLISH
X-ORIGINAL-URL:https://fischereiverein-delmenhorst.de
X-WR-CALDESC:Veranstaltungen für Fischereiverein Delmenhorst e. V. von 1896
REFRESH-INTERVAL;VALUE=DURATION:PT1H
X-Robots-Tag:noindex
X-PUBLISHED-TTL:PT1H
BEGIN:VTIMEZONE
TZID:Europe/Berlin
BEGIN:DAYLIGHT
TZOFFSETFROM:+0100
TZOFFSETTO:+0200
TZNAME:CEST
DTSTART:20250330T010000
END:DAYLIGHT
BEGIN:STANDARD
TZOFFSETFROM:+0200
TZOFFSETTO:+0100
TZNAME:CET
DTSTART:20251026T010000
END:STANDARD
BEGIN:DAYLIGHT
TZOFFSETFROM:+0100
TZOFFSETTO:+0200
TZNAME:CEST
DTSTART:20260329T010000
END:DAYLIGHT
BEGIN:STANDARD
TZOFFSETFROM:+0200
TZOFFSETTO:+0100
TZNAME:CET
DTSTART:20261025T010000
END:STANDARD
BEGIN:DAYLIGHT
TZOFFSETFROM:+0100
TZOFFSETTO:+0200
TZNAME:CEST
DTSTART:20270328T010000
END:DAYLIGHT
BEGIN:STANDARD
TZOFFSETFROM:+0200
TZOFFSETTO:+0100
TZNAME:CET
DTSTART:20271031T010000
END:STANDARD
END:VTIMEZONE
BEGIN:VEVENT
DTSTART;TZID=Europe/Berlin:20260222T090000
DTEND;TZID=Europe/Berlin:20260222T170000
DTSTAMP:20260423T104108
CREATED:20260107T064709Z
LAST-MODIFIED:20260114T151241Z
UID:2475-1771750800-1771779600@fischereiverein-delmenhorst.de
SUMMARY:Faszination Angeln - Die Jugendgruppe besucht die Angelmesse in Lingen
DESCRIPTION:Treffen 9 Uhr bis offen am Parkplatz Küchentreff in Delmenhorst-Hasport
URL:https://fischereiverein-delmenhorst.de/event/faszination-angeln-die-jugendgruppe-besucht-die-angelmesse-in-lingen/
LOCATION:Emslandhallen Lingen\, Lindenstraße 24A\, Lingen (Ems)\, Niedersachsen\, 49808\, Germany
CATEGORIES:Jugendtermine
ORGANIZER;CN="Salmo Verlag":MAILTO:info@salmoverlag.de
END:VEVENT
END:VCALENDAR