BEGIN:VCALENDAR
VERSION:2.0
PRODID:-//Fischereiverein Delmenhorst e. V. von 1896 - ECPv6.15.20//NONSGML v1.0//EN
CALSCALE:GREGORIAN
METHOD:PUBLISH
X-ORIGINAL-URL:https://fischereiverein-delmenhorst.de
X-WR-CALDESC:Veranstaltungen für Fischereiverein Delmenhorst e. V. von 1896
REFRESH-INTERVAL;VALUE=DURATION:PT1H
X-Robots-Tag:noindex
X-PUBLISHED-TTL:PT1H
BEGIN:VTIMEZONE
TZID:Europe/Berlin
BEGIN:DAYLIGHT
TZOFFSETFROM:+0100
TZOFFSETTO:+0200
TZNAME:CEST
DTSTART:20240331T010000
END:DAYLIGHT
BEGIN:STANDARD
TZOFFSETFROM:+0200
TZOFFSETTO:+0100
TZNAME:CET
DTSTART:20241027T010000
END:STANDARD
BEGIN:DAYLIGHT
TZOFFSETFROM:+0100
TZOFFSETTO:+0200
TZNAME:CEST
DTSTART:20250330T010000
END:DAYLIGHT
BEGIN:STANDARD
TZOFFSETFROM:+0200
TZOFFSETTO:+0100
TZNAME:CET
DTSTART:20251026T010000
END:STANDARD
BEGIN:DAYLIGHT
TZOFFSETFROM:+0100
TZOFFSETTO:+0200
TZNAME:CEST
DTSTART:20260329T010000
END:DAYLIGHT
BEGIN:STANDARD
TZOFFSETFROM:+0200
TZOFFSETTO:+0100
TZNAME:CET
DTSTART:20261025T010000
END:STANDARD
END:VTIMEZONE
BEGIN:VEVENT
DTSTART;TZID=Europe/Berlin:20251129T170000
DTEND;TZID=Europe/Berlin:20251129T210000
DTSTAMP:20260423T151700
CREATED:20251106T075100Z
LAST-MODIFIED:20251106T101323Z
UID:1919-1764435600-1764450000@fischereiverein-delmenhorst.de
SUMMARY:Jugend-Weihnachtsfeier in der Bootshalle
DESCRIPTION:Moin moin zusammen! \nDas Jahr neigt sich dem Ende zu und das wollen wir gemeinsam gemütlich ausklingen lassen.\nDarum lade ich euch herzlich zu unserer Weihnachtsfeier ein! \n📅 Wann: Freitag\, 29. November\n🕔 Uhrzeit: 17:00 Uhr\n📍 Wo: Bootshalle \nWir machen’s uns in der Halle schön gemütlich\, essen zusammen und schnacken ein bisschen. Für Essen und Getränke ist natürlich gesorgt. 😉 \nGebt mir bitte kurz bis zum 24.11 Bescheid\, ob ihr dabei seid\, damit ich besser planen kann. Alternativ könnt ihr auch an info@fischereiverein-delmenhorst.de schreiben oder das Kontaktformular der Internetseite benutzen. \nIch freu mich auf einen entspannten Abend mit euch! \nEuer\nJan
URL:https://fischereiverein-delmenhorst.de/event/jugend-weihnachtsfeier-in-der-bootshalle/
LOCATION:Bootshalle\, Hafenstraße 12\, Lemwerder\, Niedersachsen\, 27809\, Germany
CATEGORIES:Jugendtermine
ORGANIZER;CN="Fischereiverein Delmenhorst e. V. von 1896":MAILTO:info@fischereiverein-delmenhorst.de
END:VEVENT
END:VCALENDAR