BEGIN:VCALENDAR
VERSION:2.0
PRODID:-//Fischereiverein Delmenhorst e. V. von 1896 - ECPv6.15.20//NONSGML v1.0//EN
CALSCALE:GREGORIAN
METHOD:PUBLISH
X-WR-CALNAME:Fischereiverein Delmenhorst e. V. von 1896
X-ORIGINAL-URL:https://fischereiverein-delmenhorst.de
X-WR-CALDESC:Veranstaltungen für Fischereiverein Delmenhorst e. V. von 1896
REFRESH-INTERVAL;VALUE=DURATION:PT1H
X-Robots-Tag:noindex
X-PUBLISHED-TTL:PT1H
BEGIN:VTIMEZONE
TZID:Europe/Berlin
BEGIN:DAYLIGHT
TZOFFSETFROM:+0100
TZOFFSETTO:+0200
TZNAME:CEST
DTSTART:20240331T010000
END:DAYLIGHT
BEGIN:STANDARD
TZOFFSETFROM:+0200
TZOFFSETTO:+0100
TZNAME:CET
DTSTART:20241027T010000
END:STANDARD
BEGIN:DAYLIGHT
TZOFFSETFROM:+0100
TZOFFSETTO:+0200
TZNAME:CEST
DTSTART:20250330T010000
END:DAYLIGHT
BEGIN:STANDARD
TZOFFSETFROM:+0200
TZOFFSETTO:+0100
TZNAME:CET
DTSTART:20251026T010000
END:STANDARD
BEGIN:DAYLIGHT
TZOFFSETFROM:+0100
TZOFFSETTO:+0200
TZNAME:CEST
DTSTART:20260329T010000
END:DAYLIGHT
BEGIN:STANDARD
TZOFFSETFROM:+0200
TZOFFSETTO:+0100
TZNAME:CET
DTSTART:20261025T010000
END:STANDARD
END:VTIMEZONE
BEGIN:VEVENT
DTSTART;TZID=Europe/Berlin:20251121T170000
DTEND;TZID=Europe/Berlin:20251121T200000
DTSTAMP:20260423T152303
CREATED:20251010T095508Z
LAST-MODIFIED:20251111T091107Z
UID:1685-1763744400-1763755200@fischereiverein-delmenhorst.de
SUMMARY:Jubilarehrung Fischereiverein Delmenhorst
DESCRIPTION:Am 21. November 2025 findet die Jubilarehrung des Fischereiverein Delmenhorst e.V. von 1896 statt. \nEingeladen werden hierfür die zu ehrenden Mitglieder\, deren Gäste und Ehrengäste. \nGeehrt werden Mitglieder\, die im Jahre 2024 mindestens 25 Jahre im Verein waren.
URL:https://fischereiverein-delmenhorst.de/event/jubilarehrung-fischereiverein-delmenhorst/
LOCATION:Bootshalle\, Hafenstraße 12\, Lemwerder\, Niedersachsen\, 27809\, Germany
CATEGORIES:Allgemeine Termine
ORGANIZER;CN="Fischereiverein Delmenhorst e. V. von 1896":MAILTO:info@fischereiverein-delmenhorst.de
END:VEVENT
END:VCALENDAR