BEGIN:VCALENDAR
VERSION:2.0
PRODID:-//Fischereiverein Delmenhorst e. V. von 1896 - ECPv6.15.20//NONSGML v1.0//EN
CALSCALE:GREGORIAN
METHOD:PUBLISH
X-ORIGINAL-URL:https://fischereiverein-delmenhorst.de
X-WR-CALDESC:Veranstaltungen für Fischereiverein Delmenhorst e. V. von 1896
REFRESH-INTERVAL;VALUE=DURATION:PT1H
X-Robots-Tag:noindex
X-PUBLISHED-TTL:PT1H
BEGIN:VTIMEZONE
TZID:Europe/Berlin
BEGIN:DAYLIGHT
TZOFFSETFROM:+0100
TZOFFSETTO:+0200
TZNAME:CEST
DTSTART:20240331T010000
END:DAYLIGHT
BEGIN:STANDARD
TZOFFSETFROM:+0200
TZOFFSETTO:+0100
TZNAME:CET
DTSTART:20241027T010000
END:STANDARD
BEGIN:DAYLIGHT
TZOFFSETFROM:+0100
TZOFFSETTO:+0200
TZNAME:CEST
DTSTART:20250330T010000
END:DAYLIGHT
BEGIN:STANDARD
TZOFFSETFROM:+0200
TZOFFSETTO:+0100
TZNAME:CET
DTSTART:20251026T010000
END:STANDARD
BEGIN:DAYLIGHT
TZOFFSETFROM:+0100
TZOFFSETTO:+0200
TZNAME:CEST
DTSTART:20260329T010000
END:DAYLIGHT
BEGIN:STANDARD
TZOFFSETFROM:+0200
TZOFFSETTO:+0100
TZNAME:CET
DTSTART:20261025T010000
END:STANDARD
END:VTIMEZONE
BEGIN:VEVENT
DTSTART;TZID=Europe/Berlin:20251026T060000
DTEND;TZID=Europe/Berlin:20251026T120000
DTSTAMP:20260423T170434
CREATED:20250714T105850Z
LAST-MODIFIED:20251002T091344Z
UID:967-1761458400-1761480000@fischereiverein-delmenhorst.de
SUMMARY:Abfischen für Vereinsmitglieder und Gäste
DESCRIPTION:Für Erwachsene und Jugendliche \nTERMINÄNDERUNG!!! Das Abfischen wurde vom 19.10.2025 auf den 26.10.2025 verschoben!!! \n___ \nEinladung Abfischen 2025
URL:https://fischereiverein-delmenhorst.de/event/abfischen-fuer-vereinsmitglieder-und-gaeste/
LOCATION:Bootshalle\, Hafenstraße 12\, Lemwerder\, Niedersachsen\, 27809\, Germany
CATEGORIES:Allgemeine Termine,Angeltermine
ORGANIZER;CN="Fischereiverein Delmenhorst e. V. von 1896":MAILTO:info@fischereiverein-delmenhorst.de
END:VEVENT
END:VCALENDAR