BEGIN:VCALENDAR
VERSION:2.0
PRODID:-//Fischereiverein Delmenhorst e. V. von 1896 - ECPv6.15.20//NONSGML v1.0//EN
CALSCALE:GREGORIAN
METHOD:PUBLISH
X-WR-CALNAME:Fischereiverein Delmenhorst e. V. von 1896
X-ORIGINAL-URL:https://fischereiverein-delmenhorst.de
X-WR-CALDESC:Veranstaltungen für Fischereiverein Delmenhorst e. V. von 1896
REFRESH-INTERVAL;VALUE=DURATION:PT1H
X-Robots-Tag:noindex
X-PUBLISHED-TTL:PT1H
BEGIN:VTIMEZONE
TZID:Europe/Berlin
BEGIN:DAYLIGHT
TZOFFSETFROM:+0100
TZOFFSETTO:+0200
TZNAME:CEST
DTSTART:20240331T010000
END:DAYLIGHT
BEGIN:STANDARD
TZOFFSETFROM:+0200
TZOFFSETTO:+0100
TZNAME:CET
DTSTART:20241027T010000
END:STANDARD
BEGIN:DAYLIGHT
TZOFFSETFROM:+0100
TZOFFSETTO:+0200
TZNAME:CEST
DTSTART:20250330T010000
END:DAYLIGHT
BEGIN:STANDARD
TZOFFSETFROM:+0200
TZOFFSETTO:+0100
TZNAME:CET
DTSTART:20251026T010000
END:STANDARD
BEGIN:DAYLIGHT
TZOFFSETFROM:+0100
TZOFFSETTO:+0200
TZNAME:CEST
DTSTART:20260329T010000
END:DAYLIGHT
BEGIN:STANDARD
TZOFFSETFROM:+0200
TZOFFSETTO:+0100
TZNAME:CET
DTSTART:20261025T010000
END:STANDARD
END:VTIMEZONE
BEGIN:VEVENT
DTSTART;TZID=Europe/Berlin:20250815T160000
DTEND;TZID=Europe/Berlin:20250817T130000
DTSTAMP:20260423T214944
CREATED:20250714T105500Z
LAST-MODIFIED:20250730T120140Z
UID:964-1755273600-1755435600@fischereiverein-delmenhorst.de
SUMMARY:Karpfenangeln für Vereinsmitglieder
DESCRIPTION:Für Erwachsene \n___ \nEinladung zum Karpfenangeln 2025\nDatum: Freitag\, den 15.August bis Sonntag\, den 17.August 2025\nTreffen: Freitag\, den 15.August 2025\, ab 16.00 h\nOrt: Hude – Hemmelsberg\, Unterstand Hemmelsberger See\nGewässer: Hemmelsberger See\nAngelzeit: bis Sonntag\, d. 17. August 2025\, mittags\nFischarten: Karpfen\nAngelart: entsprechend der Gewässerordnung bis zu 3 Angelruten \nAnmeldung ist bis zum 07. August 2025 erforderlich unter\nMailadresse: info@fischereiverein-delmenhorst.de\nMaximale Teilnehmeranzahl 25 Angler \nFür Nichtteilnehmer ist der Hemmelsberger See für den Zeitraum der \nVeranstaltung gesperrt. \nSamstag gemeinsames Frühstück und am späten Nachmittag Grillen mit \nGetränken. \nAm Freitag und am Sonntag ist Selbstverpflegung erforderlich. \nWeitere Infos erfolgen beim Treffen vor Ort.\nMit der Teilnahme am Fischen des Fischereivereins Delmenhorst verpflichtet sich jeder\nAngler\, sich an die entsprechenden Vorschriften des Natur- und Tierschutzes sowie der\nGewässerordnung des Vereins zu halten.\nJeder Teilnehmer ist für sein Handeln am Gewässer sowie für die sinnvolle Verwertung des\nFanges im Sinne des Tierschutzgesetzes und des Fischereirechts selbst verantwortlich.\nFür Unfälle vor\, während oder nach der Veranstaltung wird keine Haftung übernommen. \nFischereiwart stellv.Fischereiwart\nManfred Borchers Joachim Hruzik
URL:https://fischereiverein-delmenhorst.de/event/karpfenangeln-fuer-vereinsmitglieder/
LOCATION:Hemmelsberger See\, Hemmelsbergsee FV Delmenhorst e.V.\, Hude\, Niedersachsen\, 27798\, Germany
CATEGORIES:Allgemeine Termine,Angeltermine
ORGANIZER;CN="Fischereiverein Delmenhorst e. V. von 1896":MAILTO:info@fischereiverein-delmenhorst.de
END:VEVENT
BEGIN:VEVENT
DTSTART;TZID=Europe/Berlin:20250815T180000
DTEND;TZID=Europe/Berlin:20250817T120000
DTSTAMP:20260423T214944
CREATED:20250714T113145Z
LAST-MODIFIED:20250725T123712Z
UID:998-1755280800-1755432000@fischereiverein-delmenhorst.de
SUMMARY:Jugend-Gemeinschaftsfischen mit Zeltlager am Kiekutsee
DESCRIPTION:
URL:https://fischereiverein-delmenhorst.de/event/jugend-gemeinschaftsfischen-mit-zeltlager-am-kiekutsee/
LOCATION:Kiekutsee\, Zum Kiekutsee\, Stuhr\, Niedersachsen\, 28844\, Germany
CATEGORIES:Angeltermine,Jugendtermine
ORGANIZER;CN="Fischereiverein Delmenhorst e. V. von 1896":MAILTO:info@fischereiverein-delmenhorst.de
END:VEVENT
END:VCALENDAR